BEGIN:VCALENDAR
VERSION:2.0
PRODID:-//Nueva Constituyente Ciudadana Popular - ECPv4.2.3//NONSGML v1.0//EN
CALSCALE:GREGORIAN
METHOD:PUBLISH
X-WR-CALNAME:Nueva Constituyente Ciudadana Popular
X-ORIGINAL-URL:http://nuevaconstituyente.org
X-WR-CALDESC:Events for Nueva Constituyente Ciudadana Popular
BEGIN:VEVENT
DTSTART;TZID=UTC+0:20160805T080000
DTEND;TZID=UTC+0:20160805T170000
DTSTAMP:20260423T101711
CREATED:20160801T172258
LAST-MODIFIED:20160801T172258
UID:1707-1470384000-1470416400@nuevaconstituyente.org
SUMMARY:Acto Político Cultural contra la reforma educativa en Iztapalapa\, Ciudad de México.
DESCRIPTION:El viernes 5 de Agosto en la delegación Iztapalapa de la Ciudad de México\, se realizará un evento político cultural organizado por maestras y maestros\, madres y padres de familia y universitarios para informar a las y los ciudadanos sobre las graves consecuencias de la reforma educativa.\n\nEl Comité Promotor del Distrito Federal de la Constituyente Ciudadana y Popular participará impartiendo un taller de títeres para niñas y niños y una charla informativa sobre la devastación ambiental que se vive en México.\n¡Ven y participa! Escríbenos a nuestro correo comite.constituyente.df@gmail.com\nComite Promotor del Distrito Federal de la CCP.
URL:http://nuevaconstituyente.org/event/acto-politico-cultural-contra-la-reforma-educativa-en-iztapalapa-ciudad-de-mexico/
LOCATION:Distrito Federal\, México
END:VEVENT
END:VCALENDAR