BEGIN:VCALENDAR
VERSION:2.0
PRODID:-//Nueva Constituyente Ciudadana Popular - ECPv4.2.3//NONSGML v1.0//EN
CALSCALE:GREGORIAN
METHOD:PUBLISH
X-WR-CALNAME:Nueva Constituyente Ciudadana Popular
X-ORIGINAL-URL:http://nuevaconstituyente.org
X-WR-CALDESC:Events for Nueva Constituyente Ciudadana Popular
BEGIN:VEVENT
DTSTART;TZID=UTC+0:20150328T080000
DTEND;TZID=UTC+0:20150328T170000
DTSTAMP:20260423T090915
CREATED:20150616T133106
LAST-MODIFIED:20150616T133106
UID:709-1427529600-1427562000@nuevaconstituyente.org
SUMMARY:Aguascalientes\, Ags. Reunión con el Comité Promotor
DESCRIPTION:
URL:http://nuevaconstituyente.org/event/aguascalientes-ags-reunion-con-el-comite-promotor/
CATEGORIES:Evento
END:VEVENT
END:VCALENDAR