BEGIN:VCALENDAR
VERSION:2.0
PRODID:-//Nueva Constituyente Ciudadana Popular - ECPv4.2.3//NONSGML v1.0//EN
CALSCALE:GREGORIAN
METHOD:PUBLISH
X-WR-CALNAME:Nueva Constituyente Ciudadana Popular
X-ORIGINAL-URL:http://nuevaconstituyente.org
X-WR-CALDESC:Events for Nueva Constituyente Ciudadana Popular
BEGIN:VEVENT
DTSTART;TZID=UTC+0:20150806T080000
DTEND;TZID=UTC+0:20150806T170000
DTSTAMP:20260423T084953
CREATED:20150704T160218
LAST-MODIFIED:20150704T160218
UID:1030-1438848000-1438880400@nuevaconstituyente.org
SUMMARY:Aguascalientes\, Ags. Reunión de la Constituyente Ciudadana-Popular
DESCRIPTION:
URL:http://nuevaconstituyente.org/event/aguascalientes-ags-reunion-de-la-constituyente-ciudadana-popular/
CATEGORIES:Evento
ATTACH;FMTTYPE=:
END:VEVENT
END:VCALENDAR