BEGIN:VCALENDAR
VERSION:2.0
PRODID:-//Nueva Constituyente Ciudadana Popular - ECPv4.2.3//NONSGML v1.0//EN
CALSCALE:GREGORIAN
METHOD:PUBLISH
X-WR-CALNAME:Nueva Constituyente Ciudadana Popular
X-ORIGINAL-URL:http://nuevaconstituyente.org
X-WR-CALDESC:Events for Nueva Constituyente Ciudadana Popular
BEGIN:VEVENT
DTSTART;TZID=UTC+0:20150508T080000
DTEND;TZID=UTC+0:20150508T170000
DTSTAMP:20260423T085151
CREATED:20150616T114841
LAST-MODIFIED:20150616T114841
UID:642-1431072000-1431104400@nuevaconstituyente.org
SUMMARY:Ajusco Coyoacán\, DF. Reunión de la Constituyente Ciudadana-Popular
DESCRIPTION:El viernes 8 de mayo de 2015\, se realizó una plática con los comités eclesiales de base en la colonia Ausco Coyoacán\, en el Distrito Federal.\n\nEstuvieron reunidos en el Salón Parroquial de la Iglesia de la Resurrección\, en Av. aztecas esq. Ixtlilxochitl.\n\n \n\nImágenes del evento:\n\n 
URL:http://nuevaconstituyente.org/event/ajusco-coyoacan-df-reunion-de-la-constituyente-ciudadana-popular/
CATEGORIES:Evento
ATTACH;FMTTYPE=:
END:VEVENT
END:VCALENDAR