BEGIN:VCALENDAR
VERSION:2.0
PRODID:-//Nueva Constituyente Ciudadana Popular - ECPv4.2.3//NONSGML v1.0//EN
CALSCALE:GREGORIAN
METHOD:PUBLISH
X-WR-CALNAME:Nueva Constituyente Ciudadana Popular
X-ORIGINAL-URL:http://nuevaconstituyente.org
X-WR-CALDESC:Events for Nueva Constituyente Ciudadana Popular
BEGIN:VEVENT
DTSTART;TZID=UTC+0:20150315T080000
DTEND;TZID=UTC+0:20150315T170000
DTSTAMP:20260423T084903
CREATED:20150616T140311
LAST-MODIFIED:20150616T140311
UID:725-1426406400-1426438800@nuevaconstituyente.org
SUMMARY:Celaya\, Gto. Reunión Comité Promotor
DESCRIPTION:SE HIZO UNA ATENTA INVITACION A LA REUNION de CIUDADANOS y ORGANIZACIONES SOCIALES en la CONFORMACION de la CONSTITUYENTE CIUDADANA POPULAR a CELEBRARSE EL PROXIMO DOMINGO 15 de MARZO a las 10:00 Hrs. en LA CASA del MOVIMIENTO en DEFENSA de la ECONOMIA POPULAR  de CELAYA\, UBICADA en la Calle de 5 DE MAYO # 114 (entre las calles de Alvaro Obregon y Tresguerras -atras del Templo del Carmen) ZONA CENTRO\, CELAYA\, GTO.
URL:http://nuevaconstituyente.org/event/celaya-gto-reunion-comite-promotor/
CATEGORIES:Evento
END:VEVENT
END:VCALENDAR