BEGIN:VCALENDAR
VERSION:2.0
PRODID:-//Nueva Constituyente Ciudadana Popular - ECPv4.2.3//NONSGML v1.0//EN
CALSCALE:GREGORIAN
METHOD:PUBLISH
X-WR-CALNAME:Nueva Constituyente Ciudadana Popular
X-ORIGINAL-URL:http://nuevaconstituyente.org
X-WR-CALDESC:Events for Nueva Constituyente Ciudadana Popular
BEGIN:VEVENT
DTSTART;TZID=UTC+0:20150218T080000
DTEND;TZID=UTC+0:20150218T170000
DTSTAMP:20260423T100053
CREATED:20150617T122538
LAST-MODIFIED:20150617T122538
UID:763-1424246400-1424278800@nuevaconstituyente.org
SUMMARY:Celaya\, Gto. Reunión con el Comité Promotor
DESCRIPTION:Reunión sobre la Constituyente Ciudadana en el estado de Guanajuato\, 5:00 pm\, Celaya\, Guanajuato\, en Calle 5 de Mayo poniente No. 114. Entre Tres Guerras y Obregón.
URL:http://nuevaconstituyente.org/event/celaya-gto-reunion-con-el-comite-promotor/
CATEGORIES:Evento
END:VEVENT
END:VCALENDAR