BEGIN:VCALENDAR
VERSION:2.0
PRODID:-//Nueva Constituyente Ciudadana Popular - ECPv4.2.3//NONSGML v1.0//EN
CALSCALE:GREGORIAN
METHOD:PUBLISH
X-WR-CALNAME:Nueva Constituyente Ciudadana Popular
X-ORIGINAL-URL:http://nuevaconstituyente.org
X-WR-CALDESC:Events for Nueva Constituyente Ciudadana Popular
BEGIN:VEVENT
DTSTART;TZID=America/Mexico_City:20160612T100000
DTEND;TZID=America/Mexico_City:20160612T170000
DTSTAMP:20260423T085005
CREATED:20160604T172249
LAST-MODIFIED:20160604T172249
UID:1482-1465725600-1465750800@nuevaconstituyente.org
SUMMARY:Celaya\, Guanajuato. Conversatorio Regional de Mujeres en la Constituyente Ciudadana-Popular
DESCRIPTION:
URL:http://nuevaconstituyente.org/event/celaya-guanajuato-conversatorio-regional-de-mujeres-en-la-ccp/
CATEGORIES:Constituyente Ciudadana-Popular,Mujeres
ATTACH;FMTTYPE=:
END:VEVENT
END:VCALENDAR