BEGIN:VCALENDAR
VERSION:2.0
PRODID:-//Nueva Constituyente Ciudadana Popular - ECPv4.2.3//NONSGML v1.0//EN
CALSCALE:GREGORIAN
METHOD:PUBLISH
X-WR-CALNAME:Nueva Constituyente Ciudadana Popular
X-ORIGINAL-URL:http://nuevaconstituyente.org
X-WR-CALDESC:Events for Nueva Constituyente Ciudadana Popular
BEGIN:VEVENT
DTSTART;TZID=America/Mexico_City:20170105T080000
DTEND;TZID=America/Mexico_City:20170105T170000
DTSTAMP:20260423T085016
CREATED:20151207T134337
LAST-MODIFIED:20151207T134337
UID:1306-1483603200-1483635600@nuevaconstituyente.org
SUMMARY:Centenario de la Constitución Política de los Estados Unidos Mexicanos
DESCRIPTION:
URL:http://nuevaconstituyente.org/event/centenario-de-la-constitucion-politica-de-los-estados-unidos-mexicanos/
CATEGORIES:Constituyente Ciudadana-Popular,Evento
ATTACH;FMTTYPE=:
END:VEVENT
END:VCALENDAR