BEGIN:VCALENDAR
VERSION:2.0
PRODID:-//Nueva Constituyente Ciudadana Popular - ECPv4.2.3//NONSGML v1.0//EN
CALSCALE:GREGORIAN
METHOD:PUBLISH
X-WR-CALNAME:Nueva Constituyente Ciudadana Popular
X-ORIGINAL-URL:http://nuevaconstituyente.org
X-WR-CALDESC:Events for Nueva Constituyente Ciudadana Popular
BEGIN:VEVENT
DTSTART;TZID=UTC+0:20150613T080000
DTEND;TZID=UTC+0:20150613T170000
DTSTAMP:20260423T085005
CREATED:20150616T102905
LAST-MODIFIED:20150616T102905
UID:601-1434182400-1434214800@nuevaconstituyente.org
SUMMARY:Cheranástico\, Mich. Taller de la Constituyente Ciudadana-Popular
DESCRIPTION:El sábado 13 de junio de 2015\, se llevó a cabo la Charla-Taller de la Constituyente Ciudadana-Popular con miras a la próxima reunión para la conformación del comité promotor de Michoacán el próximo 27 de Junio.\n\n \n\nImágenes del evento:\n\n 
URL:http://nuevaconstituyente.org/event/cheranastico-mich-taller-de-la-constituyente-ciudadana-popular/
CATEGORIES:Evento
ATTACH;FMTTYPE=:
END:VEVENT
END:VCALENDAR