BEGIN:VCALENDAR
VERSION:2.0
PRODID:-//Nueva Constituyente Ciudadana Popular - ECPv4.2.3//NONSGML v1.0//EN
CALSCALE:GREGORIAN
METHOD:PUBLISH
X-WR-CALNAME:Nueva Constituyente Ciudadana Popular
X-ORIGINAL-URL:http://nuevaconstituyente.org
X-WR-CALDESC:Events for Nueva Constituyente Ciudadana Popular
BEGIN:VEVENT
DTSTART;TZID=America/Mexico_City:20160416T100000
DTEND;TZID=America/Mexico_City:20160416T140000
DTSTAMP:20260423T100305
CREATED:20160408T201035
LAST-MODIFIED:20160408T201035
UID:1426-1460800800-1460815200@nuevaconstituyente.org
SUMMARY:Ciudad de México. Encuentro de Mujeres en la Constituyente Ciudadana-Popular
DESCRIPTION:A las mujeres y simpatizantes de la Constituyente Ciudadana-Popular de la Ciudad de México\, convocamos a un ENCUENTRO el sábado 16 de abril de 2016\, de las 10 a las 14 horas\, en el local de la ALIANZA DE TRANVIARIOS DE MÉXICO\, ubicado en Dr. Lucio 29\, col. doctores\, a dos cuadras del metro Balderas\, a un costado de la Arena México.
URL:http://nuevaconstituyente.org/event/ciudad-de-mexico-encuentro-de-mujeres-en-la-constituyente-ciudadana-popular/
CATEGORIES:Constituyente Ciudadana-Popular,Mujeres
ATTACH;FMTTYPE=:
END:VEVENT
END:VCALENDAR