BEGIN:VCALENDAR
VERSION:2.0
PRODID:-//Nueva Constituyente Ciudadana Popular - ECPv4.2.3//NONSGML v1.0//EN
CALSCALE:GREGORIAN
METHOD:PUBLISH
X-WR-CALNAME:Nueva Constituyente Ciudadana Popular
X-ORIGINAL-URL:http://nuevaconstituyente.org
X-WR-CALDESC:Events for Nueva Constituyente Ciudadana Popular
BEGIN:VEVENT
DTSTART;TZID=America/Mexico_City:20160520T080000
DTEND;TZID=America/Mexico_City:20160522T170000
DTSTAMP:20260423T100147
CREATED:20160419T170740
LAST-MODIFIED:20160419T170740
UID:1433-1463731200-1463936400@nuevaconstituyente.org
SUMMARY:Ciudad de México. Taller Nacional de Facilitadoras y Fecilitadores
DESCRIPTION:En breve subiremos los detalles del evento.
URL:http://nuevaconstituyente.org/event/ciudad-de-mexico-taller-nacional-de-la-constituyente-ciudadana-popular/
CATEGORIES:Constituyente Ciudadana-Popular,Evento
ATTACH;FMTTYPE=:
END:VEVENT
END:VCALENDAR