BEGIN:VCALENDAR
VERSION:2.0
PRODID:-//Nueva Constituyente Ciudadana Popular - ECPv4.2.3//NONSGML v1.0//EN
CALSCALE:GREGORIAN
METHOD:PUBLISH
X-WR-CALNAME:Nueva Constituyente Ciudadana Popular
X-ORIGINAL-URL:http://nuevaconstituyente.org
X-WR-CALDESC:Events for Nueva Constituyente Ciudadana Popular
BEGIN:VEVENT
DTSTART;TZID=UTC+0:20150711T000000
DTEND;TZID=UTC+0:20150711T160000
DTSTAMP:20260423T113927
CREATED:20150707T185715
LAST-MODIFIED:20150707T185715
UID:1046-1436572800-1436630400@nuevaconstituyente.org
SUMMARY:Coatepec\, Ver.  Taller sobre la Constituyente Ciudadana-Popular
DESCRIPTION:Se llevará a cabo un taller de 12:00 a 16:00 horas\, en el Café Casú\, ubicado en Calle 5 de mayo No. 11\, Coatepec\, Veracruz.
URL:http://nuevaconstituyente.org/event/coatepec-ver-taller-sobre-la-constituyente-ciudadana-popular/
CATEGORIES:Evento
ATTACH;FMTTYPE=:
END:VEVENT
END:VCALENDAR