BEGIN:VCALENDAR
VERSION:2.0
PRODID:-//Nueva Constituyente Ciudadana Popular - ECPv4.2.3//NONSGML v1.0//EN
CALSCALE:GREGORIAN
METHOD:PUBLISH
X-WR-CALNAME:Nueva Constituyente Ciudadana Popular
X-ORIGINAL-URL:http://nuevaconstituyente.org
X-WR-CALDESC:Events for Nueva Constituyente Ciudadana Popular
BEGIN:VEVENT
DTSTART;TZID=America/Mexico_City:20160624T170000
DTEND;TZID=America/Mexico_City:20160624T200000
DTSTAMP:20260423T085058
CREATED:20160603T095340
LAST-MODIFIED:20160603T095340
UID:1470-1466787600-1466798400@nuevaconstituyente.org
SUMMARY:Manzanillo\, Colima. Asamblea Estatal de la Constituyente Ciudadana-Popular
DESCRIPTION:
URL:http://nuevaconstituyente.org/event/colima-colima-reunion-de-la-constituyente-ciudadana-popular/
CATEGORIES:Constituyente Ciudadana-Popular
ATTACH;FMTTYPE=:
END:VEVENT
END:VCALENDAR