BEGIN:VCALENDAR
VERSION:2.0
PRODID:-//Nueva Constituyente Ciudadana Popular - ECPv4.2.3//NONSGML v1.0//EN
CALSCALE:GREGORIAN
METHOD:PUBLISH
X-WR-CALNAME:Nueva Constituyente Ciudadana Popular
X-ORIGINAL-URL:http://nuevaconstituyente.org
X-WR-CALDESC:Events for Nueva Constituyente Ciudadana Popular
BEGIN:VEVENT
DTSTART;TZID=America/Mexico_City:20160308T050000
DTEND;TZID=America/Mexico_City:20160308T200000
DTSTAMP:20260423T090900
CREATED:20160306T150355
LAST-MODIFIED:20160306T150355
UID:1408-1457413200-1457467200@nuevaconstituyente.org
SUMMARY:Cuernavaca\, Morelos. Día Internacional de la Mujer
DESCRIPTION:El acto se llevará cabo a las 17 pm\, en el Auditorio de la Escuela de Teatro\, Danza y Música\, ubicado en Av. Morelos 180\, junto a Categral\, Cuernavaca\, Morelos.
URL:http://nuevaconstituyente.org/event/cuernavaca-morelos-dia-internacional-de-la-mujer/
CATEGORIES:Evento,Mujeres
ATTACH;FMTTYPE=:
END:VEVENT
END:VCALENDAR