BEGIN:VCALENDAR
VERSION:2.0
PRODID:-//Nueva Constituyente Ciudadana Popular - ECPv4.2.3//NONSGML v1.0//EN
CALSCALE:GREGORIAN
METHOD:PUBLISH
X-WR-CALNAME:Nueva Constituyente Ciudadana Popular
X-ORIGINAL-URL:http://nuevaconstituyente.org
X-WR-CALDESC:Events for Nueva Constituyente Ciudadana Popular
BEGIN:VEVENT
DTSTART;TZID=UTC+0:20150311T080000
DTEND;TZID=UTC+0:20150311T170000
DTSTAMP:20260423T100147
CREATED:20150616T140759
LAST-MODIFIED:20150616T140759
UID:730-1426060800-1426093200@nuevaconstituyente.org
SUMMARY:DF\, Casa Galván. Ponencia sobre la Constituyente Ciudadana-Popular
DESCRIPTION:
URL:http://nuevaconstituyente.org/event/df-casa-galvan-ponencia-sobre-la-constituyente-ciudadana-popular/
CATEGORIES:Evento
END:VEVENT
END:VCALENDAR