BEGIN:VCALENDAR
VERSION:2.0
PRODID:-//Nueva Constituyente Ciudadana Popular - ECPv4.2.3//NONSGML v1.0//EN
CALSCALE:GREGORIAN
METHOD:PUBLISH
X-WR-CALNAME:Nueva Constituyente Ciudadana Popular
X-ORIGINAL-URL:http://nuevaconstituyente.org
X-WR-CALDESC:Events for Nueva Constituyente Ciudadana Popular
BEGIN:VEVENT
DTSTART;TZID=UTC+0:20150728T170000
DTEND;TZID=UTC+0:20150728T190000
DTSTAMP:20260423T114154
CREATED:20150716T071752
LAST-MODIFIED:20150716T071752
UID:1063-1438102800-1438110000@nuevaconstituyente.org
SUMMARY:DF. Martes Rosa "Posibilidades de Acción para las organizaciones y movimientos de izquierda en México“
DESCRIPTION:\n\n\nEl Espacio "Mujeres en la Constituyente Ciudadana-Popular" y La Rosa Luxemburg Stiftung nos invita al evento: "Posibilidades de Acción para las organizaciones y movimientos de izquierda en México“\n\n\n¿Cuáles son las posibilidades y apuestas de las izquierdas en México y Europa?\n¿Qué procesos de izquierda se están generando y cuáles son sus desafíos actuales?\n¿En qué momento se encuentra Grecia a nivel interno y al mismo tiempo ante la Unión Europea?\n\nSon algunas reflexiones que se estarán abordando en el próximo Martes Rosa\, el cual tiene el objetivo generar un espació de discusión y análisis sobre las posibilidades de acción de las organizaciones y movimientos de izquierda en México y en países europeos.\n\n\nLa cita es el Martes 28 de julio de 2015 a las 17:30 horas\n\nContaremos con la presencia de Heinz Bierbaum\, secretario de asuntos internacionales del Partido DIE LINKE\, Partido de la Izquierda en Alemania.\n\n\tPaco Ignacio Taibo II\, Análisis desde México\n\tIsabelle Cauzard\, Análisis desde la Constituyente Ciudadana Popular\n\tHeinz Bierbaum\, Análisis de las izquierdas en países Europeos\n\tModera: Torge Löding\, Director de la oficina para Centroamérica y México de la RLS\n\nTransmisión en vivo desde www.rosalux.org.mx \nTwitter@rosaluxmexico\nfacebook: Rosa Luxemburg Stiftung México\n\n\nPonencia:\nAnálisis desde la Constituyente Ciudadana-Popular\nIsabelle Cauzard\, Espacio “Mujeres en la Constituyente Ciudadana-Popular”\, 28 de julio de 2015\n\n \n\n\n\nImágenes del evento:\n     
URL:http://nuevaconstituyente.org/event/df-martes-rosa-posibilidades-de-accion-para-las-organizaciones-y-movimientos-de-izquierda-en-mexico/
CATEGORIES:Evento,Mujeres
ATTACH;FMTTYPE=:
END:VEVENT
END:VCALENDAR