BEGIN:VCALENDAR
VERSION:2.0
PRODID:-//Nueva Constituyente Ciudadana Popular - ECPv4.2.3//NONSGML v1.0//EN
CALSCALE:GREGORIAN
METHOD:PUBLISH
X-WR-CALNAME:Nueva Constituyente Ciudadana Popular
X-ORIGINAL-URL:http://nuevaconstituyente.org
X-WR-CALDESC:Events for Nueva Constituyente Ciudadana Popular
BEGIN:VEVENT
DTSTART;TZID=UTC+0:20150307T080000
DTEND;TZID=UTC+0:20150307T170000
DTSTAMP:20260423T095916
CREATED:20150617T115943
LAST-MODIFIED:20150617T115943
UID:747-1425715200-1425747600@nuevaconstituyente.org
SUMMARY:DF. Reunión del Comité Promotor
DESCRIPTION:Imágenes del evento:\n\n 
URL:http://nuevaconstituyente.org/event/df-reunion-del-comite-promotor/
CATEGORIES:Evento
ATTACH;FMTTYPE=:
END:VEVENT
END:VCALENDAR