BEGIN:VCALENDAR
VERSION:2.0
PRODID:-//Nueva Constituyente Ciudadana Popular - ECPv4.2.3//NONSGML v1.0//EN
CALSCALE:GREGORIAN
METHOD:PUBLISH
X-WR-CALNAME:Nueva Constituyente Ciudadana Popular
X-ORIGINAL-URL:http://nuevaconstituyente.org
X-WR-CALDESC:Events for Nueva Constituyente Ciudadana Popular
BEGIN:VEVENT
DTSTART;TZID=UTC+0:20150428T080000
DTEND;TZID=UTC+0:20150428T170000
DTSTAMP:20260423T084736
CREATED:20150616T130222
LAST-MODIFIED:20150616T130222
UID:686-1430208000-1430240400@nuevaconstituyente.org
SUMMARY:DF. Reunión en CCH Sur
DESCRIPTION:
URL:http://nuevaconstituyente.org/event/df-reunion-en-cch-sur/
CATEGORIES:Evento
END:VEVENT
END:VCALENDAR