BEGIN:VCALENDAR
VERSION:2.0
PRODID:-//Nueva Constituyente Ciudadana Popular - ECPv4.2.3//NONSGML v1.0//EN
CALSCALE:GREGORIAN
METHOD:PUBLISH
X-WR-CALNAME:Nueva Constituyente Ciudadana Popular
X-ORIGINAL-URL:http://nuevaconstituyente.org
X-WR-CALDESC:Events for Nueva Constituyente Ciudadana Popular
BEGIN:VEVENT
DTSTART;TZID=UTC+0:20150717T180000
DTEND;TZID=UTC+0:20150717T200000
DTSTAMP:20260423T070807
CREATED:20150704T150301
LAST-MODIFIED:20150704T150301
UID:1008-1437156000-1437163200@nuevaconstituyente.org
SUMMARY:DF. Diálogo entre Enrique Dussel y Raúl Vera
DESCRIPTION:\n\n \n\n \n\n \n\n \n\n \n\n \n\n \n\nLiga de la transmisión en vivo del encuentro entre Raúl Vera y Enrique Dussel:\n\nhttp://livestream.com/paizanni/Constituyente
URL:http://nuevaconstituyente.org/event/dialogo-entre-enrique-dussel-y-raul-vera/
CATEGORIES:Constituyente Ciudadana-Popular,Evento
ATTACH;FMTTYPE=:
END:VEVENT
END:VCALENDAR