BEGIN:VCALENDAR
VERSION:2.0
PRODID:-//Nueva Constituyente Ciudadana Popular - ECPv4.2.3//NONSGML v1.0//EN
CALSCALE:GREGORIAN
METHOD:PUBLISH
X-WR-CALNAME:Nueva Constituyente Ciudadana Popular
X-ORIGINAL-URL:http://nuevaconstituyente.org
X-WR-CALDESC:Events for Nueva Constituyente Ciudadana Popular
BEGIN:VEVENT
DTSTART;TZID=UTC+0:20150424T080000
DTEND;TZID=UTC+0:20150424T170000
DTSTAMP:20260423T052050
CREATED:20150616T123325
LAST-MODIFIED:20150616T123325
UID:673-1429862400-1429894800@nuevaconstituyente.org
SUMMARY:Durango\, Dgo. Presentación de la Constituyente Ciudadana-Popular
DESCRIPTION:El viernes 24 de abril de 2015\, se llevó a cabo la presentación pública de la Constituyente Ciudadana-Popular.\n\nLa cita fue en el sindicato de Telefonistas\, ubicado en C. Bruno Martínez 217\, entre Coronado y Gabino Barreda\, zona centro\n\n9am: rueda de prensa\n10-11am: Registro\n11am: Prresentación\n5pm: Taller para Facilitadoras y facilitadores\n\n \n\nImágenes del evento:\n\n \n\n \n\n 
URL:http://nuevaconstituyente.org/event/durango-dgo-presentacion-de-la-constituyente-ciudadana-popular/
CATEGORIES:Constituyente Ciudadana-Popular,Evento
ATTACH;FMTTYPE=:
END:VEVENT
END:VCALENDAR