BEGIN:VCALENDAR
VERSION:2.0
PRODID:-//Nueva Constituyente Ciudadana Popular - ECPv4.2.3//NONSGML v1.0//EN
CALSCALE:GREGORIAN
METHOD:PUBLISH
X-WR-CALNAME:Nueva Constituyente Ciudadana Popular
X-ORIGINAL-URL:http://nuevaconstituyente.org
X-WR-CALDESC:Events for Nueva Constituyente Ciudadana Popular
BEGIN:VEVENT
DTSTART;TZID=UTC+0:20150819T080000
DTEND;TZID=UTC+0:20150819T170000
DTSTAMP:20260423T071526
CREATED:20150818T155042
LAST-MODIFIED:20150818T155042
UID:1143-1439971200-1440003600@nuevaconstituyente.org
SUMMARY:El Camarón Yautepec\, Oax. Reunión-Taller de la Constituyente Ciudadana-Popular
DESCRIPTION:Con representaciones de las comunidades de base de las diócesis de Oaxaca\, Puerto Escondido\, Tehuantepec\, San Cristóbal y Tapachula.\nAlgunas imágenes del evento:\n\n   
URL:http://nuevaconstituyente.org/event/el-camaron-yautepec-oax-reunion-taller-de-la-constituyente-ciudadana-popular/
CATEGORIES:Evento
ATTACH;FMTTYPE=:
END:VEVENT
END:VCALENDAR