BEGIN:VCALENDAR
VERSION:2.0
PRODID:-//Nueva Constituyente Ciudadana Popular - ECPv4.2.3//NONSGML v1.0//EN
CALSCALE:GREGORIAN
METHOD:PUBLISH
X-WR-CALNAME:Nueva Constituyente Ciudadana Popular
X-ORIGINAL-URL:http://nuevaconstituyente.org
X-WR-CALDESC:Events for Nueva Constituyente Ciudadana Popular
BEGIN:VEVENT
DTSTART;TZID=America/Mexico_City:20160206T080000
DTEND;TZID=America/Mexico_City:20160206T170000
DTSTAMP:20260423T070807
CREATED:20151207T133057
LAST-MODIFIED:20151207T133057
UID:1302-1454745600-1454778000@nuevaconstituyente.org
SUMMARY:1er Encuentro Internacional sobre procesos constituyentes en América Latina
DESCRIPTION:Con la presencia de los Embajadores del Estado Plurinacional de Bolivia\, de la República del Ecuador y de la República Bolivariana de Venezuela y el Obispo Raúl Vera\, el 1er Encuentro Internacional sobre procesos constituyentes en América Latina tendrá lugar el 6 de febrero de 2016\, a las 10 am\, en el Club de Periodistas ubicado en Filomeno Mata 8\, Col. Centro\, en la Ciudad de México (Metro Allende y Bellas Artes).\n\nSe solicita\, en la medida de lo posible\, llegar antes de las 10 am\, para un registro previo del público.\n\nSaludos fraternos
URL:http://nuevaconstituyente.org/event/foro-sobre-las-constituciones-de-bolivia-ecuador-y-venezuela/
CATEGORIES:Constituyente Ciudadana-Popular,Evento
ATTACH;FMTTYPE=:
END:VEVENT
END:VCALENDAR