BEGIN:VCALENDAR
VERSION:2.0
PRODID:-//Nueva Constituyente Ciudadana Popular - ECPv4.2.3//NONSGML v1.0//EN
CALSCALE:GREGORIAN
METHOD:PUBLISH
X-WR-CALNAME:Nueva Constituyente Ciudadana Popular
X-ORIGINAL-URL:http://nuevaconstituyente.org
X-WR-CALDESC:Events for Nueva Constituyente Ciudadana Popular
BEGIN:VEVENT
DTSTART;TZID=America/Mexico_City:20160318T100000
DTEND;TZID=America/Mexico_City:20160318T170000
DTSTAMP:20260423T071634
CREATED:20160301T181216
LAST-MODIFIED:20160301T181216
UID:1393-1458295200-1458320400@nuevaconstituyente.org
SUMMARY:Guelatao de Juárez\, Oax. "Jornada por la Soberanía Nacional". Presentación de la Constituyente Ciudadana
DESCRIPTION:La cita es en la esplanada municipal de Guelatao de Juárez\, Oax.\, a las 10 am. Participa el Obispo Raúl Vera.
URL:http://nuevaconstituyente.org/event/guelatao-de-juarez-oax-jornada-por-la-soberania-nacional-presentacion-de-la-constituyente-ciudadana/
CATEGORIES:Constituyente Ciudadana-Popular,Evento
ATTACH;FMTTYPE=:
END:VEVENT
END:VCALENDAR