BEGIN:VCALENDAR
VERSION:2.0
PRODID:-//Nueva Constituyente Ciudadana Popular - ECPv4.2.3//NONSGML v1.0//EN
CALSCALE:GREGORIAN
METHOD:PUBLISH
X-WR-CALNAME:Nueva Constituyente Ciudadana Popular
X-ORIGINAL-URL:http://nuevaconstituyente.org
X-WR-CALDESC:Events for Nueva Constituyente Ciudadana Popular
BEGIN:VEVENT
DTSTART;TZID=America/Mexico_City:20160529T100000
DTEND;TZID=America/Mexico_City:20160529T170000
DTSTAMP:20260423T102826
CREATED:20160527T143536
LAST-MODIFIED:20160527T143536
UID:1445-1464516000-1464541200@nuevaconstituyente.org
SUMMARY:Huehuetán\, Chiapas. 2do Encuentro Municipal
DESCRIPTION:El evento se llevará a cabo el 29 de mayo de 2016\, a las 10 am\, en la 2a. Calle Ote No. 19\, en la casa de la Sra. Yolanda Flores\, a cuadra y media de la casa ejidal\, rumbo al río.
URL:http://nuevaconstituyente.org/event/huehuetan-chiapas-2do-encuentro-municipal/
ATTACH;FMTTYPE=:
END:VEVENT
END:VCALENDAR