BEGIN:VCALENDAR
VERSION:2.0
PRODID:-//Nueva Constituyente Ciudadana Popular - ECPv4.2.3//NONSGML v1.0//EN
CALSCALE:GREGORIAN
METHOD:PUBLISH
X-WR-CALNAME:Nueva Constituyente Ciudadana Popular
X-ORIGINAL-URL:http://nuevaconstituyente.org
X-WR-CALDESC:Events for Nueva Constituyente Ciudadana Popular
BEGIN:VEVENT
DTSTART;TZID=UTC+0:20150527T080000
DTEND;TZID=UTC+0:20150527T170000
DTSTAMP:20260423T101131
CREATED:20150616T105206
LAST-MODIFIED:20150616T105206
UID:618-1432713600-1432746000@nuevaconstituyente.org
SUMMARY:Ixtenco\, Tlax. Taller Constituyente Ciudadana-Popular
DESCRIPTION:El 27 de mayo de 2015\, se reunieron y participaron comunidades eclesiales de base y representantes comunitarios y de economía social.\n\n \n\nImágenes del evento:\n\n  
URL:http://nuevaconstituyente.org/event/ixtenco-tlax-taller-constituyente-ciudadana-popular/
CATEGORIES:Evento
ATTACH;FMTTYPE=:
END:VEVENT
END:VCALENDAR