BEGIN:VCALENDAR
VERSION:2.0
PRODID:-//Nueva Constituyente Ciudadana Popular - ECPv4.2.3//NONSGML v1.0//EN
CALSCALE:GREGORIAN
METHOD:PUBLISH
X-WR-CALNAME:Nueva Constituyente Ciudadana Popular
X-ORIGINAL-URL:http://nuevaconstituyente.org
X-WR-CALDESC:Events for Nueva Constituyente Ciudadana Popular
BEGIN:VEVENT
DTSTART;TZID=UTC+0:20180817T160000
DTEND;TZID=UTC+0:20180818T170000
DTSTAMP:20260424T002049
CREATED:20180716T055442
LAST-MODIFIED:20180716T055442
UID:4629-1534521600-1534611600@nuevaconstituyente.org
SUMMARY:Labores de formación comunitaria "Tocando la tierra"\, sesión tercera del módulo 2
DESCRIPTION:México es un país con una diversidad que se torna hipercompleja. La figura ejidal que se entiende\, por ejemplo\, en el Sur del país\, dista mucho de la que puede entenderse en el Norte. Por eso la labor (como se llama en el Norte al trabajo campesino) de formación comunitarua tiene como sujeto principal a la campesina y al campesino norteñxs\, sin que eso signifique que los sujetos del entorno urbano\, podamos formarnos todxs juntxs recuperando también saberes ancestrales sobre el cuidado de la tierra.\n\n\n\n 
URL:http://nuevaconstituyente.org/event/labores-de-formacion-comunitaria-tocando-la-tierra-sesion-tercera-del-modulo-2/
END:VEVENT
END:VCALENDAR