BEGIN:VCALENDAR
VERSION:2.0
PRODID:-//Nueva Constituyente Ciudadana Popular - ECPv4.2.3//NONSGML v1.0//EN
CALSCALE:GREGORIAN
METHOD:PUBLISH
X-WR-CALNAME:Nueva Constituyente Ciudadana Popular
X-ORIGINAL-URL:http://nuevaconstituyente.org
X-WR-CALDESC:Events for Nueva Constituyente Ciudadana Popular
BEGIN:VEVENT
DTSTART;TZID=UTC+0:20150425T080000
DTEND;TZID=UTC+0:20150425T170000
DTSTAMP:20260423T065355
CREATED:20150616T121900
LAST-MODIFIED:20150616T121900
UID:660-1429948800-1429981200@nuevaconstituyente.org
SUMMARY:León\, Gto. Presentación de la Constituyente Ciudadana-Popular
DESCRIPTION:El 25 de abril de 2015\, se presentó la Constituyente Ciudadana-Popular en León\, Guanajuato.\n\n \n\nImágenes del evento:\n\n  
URL:http://nuevaconstituyente.org/event/leon-gto-presentacion-de-la-constituyente-ciudadana-popular/
CATEGORIES:Evento
ATTACH;FMTTYPE=:
END:VEVENT
END:VCALENDAR