BEGIN:VCALENDAR
VERSION:2.0
PRODID:-//Nueva Constituyente Ciudadana Popular - ECPv4.2.3//NONSGML v1.0//EN
CALSCALE:GREGORIAN
METHOD:PUBLISH
X-WR-CALNAME:Nueva Constituyente Ciudadana Popular
X-ORIGINAL-URL:http://nuevaconstituyente.org
X-WR-CALDESC:Events for Nueva Constituyente Ciudadana Popular
BEGIN:VEVENT
DTSTART;TZID=UTC+0:20150221T080000
DTEND;TZID=UTC+0:20150221T170000
DTSTAMP:20260423T084904
CREATED:20150617T121931
LAST-MODIFIED:20150617T121931
UID:759-1424505600-1424538000@nuevaconstituyente.org
SUMMARY:León\, Gto. Reunión del Comité Promotor
DESCRIPTION:Reunión con grupos promotores en León\, Guanajuato\, 16pm\, calle de Artes 202\, esquina con calle la Paz en el Centro\, en una academia de Artes marciales y Yoga\, y Reunión de coordinación entre facilitadoras y facilitadores.
URL:http://nuevaconstituyente.org/event/leon-gto-reunion-del-comite-promotor/
CATEGORIES:Evento
END:VEVENT
END:VCALENDAR