BEGIN:VCALENDAR
VERSION:2.0
PRODID:-//Nueva Constituyente Ciudadana Popular - ECPv4.2.3//NONSGML v1.0//EN
CALSCALE:GREGORIAN
METHOD:PUBLISH
X-WR-CALNAME:Nueva Constituyente Ciudadana Popular
X-ORIGINAL-URL:http://nuevaconstituyente.org
X-WR-CALDESC:Events for Nueva Constituyente Ciudadana Popular
BEGIN:VEVENT
DTSTART;TZID=UTC+0:20150322T080000
DTEND;TZID=UTC+0:20150322T170000
DTSTAMP:20260423T073846
CREATED:20150616T134317
LAST-MODIFIED:20150616T134317
UID:712-1427011200-1427043600@nuevaconstituyente.org
SUMMARY:León\, Gto. Taller de la Constituyente Ciudadana-Popular
DESCRIPTION:El 22 de marzo se llevó a cabo un Taller de facilitadoras y facilitadores en León\, Guanajuato\, en la Clínica Pascua\, a las 10 am.
URL:http://nuevaconstituyente.org/event/leon-gto-taller-de-la-constituyente-ciudadana-popular/
CATEGORIES:Evento
END:VEVENT
END:VCALENDAR