BEGIN:VCALENDAR
VERSION:2.0
PRODID:-//Nueva Constituyente Ciudadana Popular - ECPv4.2.3//NONSGML v1.0//EN
CALSCALE:GREGORIAN
METHOD:PUBLISH
X-WR-CALNAME:Nueva Constituyente Ciudadana Popular
X-ORIGINAL-URL:http://nuevaconstituyente.org
X-WR-CALDESC:Events for Nueva Constituyente Ciudadana Popular
BEGIN:VEVENT
DTSTART;TZID=UTC+0:20150831T100000
DTEND;TZID=UTC+0:20150831T150000
DTSTAMP:20260423T101020
CREATED:20150828T180907
LAST-MODIFIED:20170422T022121
UID:1170-1441015200-1441033200@nuevaconstituyente.org
SUMMARY:Los Mochis\, Sinaloa. Presentación pública de la Constituyente Ciudadana-Popular
DESCRIPTION:La cita es este lunes 31 de agosto\, de 10 a 13hrs\, en el Centro de Innovación y Educación\, ubicado en la esquina de las calles Alvaro Obregón y Ángel Flores\, a dos cuadras de la plazuela\, en Los Mochis\, Sinaloa.
URL:http://nuevaconstituyente.org/event/los-mochis-sinaloa-presentacion-publica-de-la-constituyente-ciudadana-popular/
CATEGORIES:Constituyente Ciudadana-Popular
ATTACH;FMTTYPE=:
END:VEVENT
END:VCALENDAR