BEGIN:VCALENDAR
VERSION:2.0
PRODID:-//Nueva Constituyente Ciudadana Popular - ECPv4.2.3//NONSGML v1.0//EN
CALSCALE:GREGORIAN
METHOD:PUBLISH
X-WR-CALNAME:Nueva Constituyente Ciudadana Popular
X-ORIGINAL-URL:http://nuevaconstituyente.org
X-WR-CALDESC:Events for Nueva Constituyente Ciudadana Popular
BEGIN:VEVENT
DTSTART;TZID=UTC+0:20150919T110000
DTEND;TZID=UTC+0:20150919T170000
DTSTAMP:20260423T052747
CREATED:20150813T192909
LAST-MODIFIED:20150813T192909
UID:1133-1442660400-1442682000@nuevaconstituyente.org
SUMMARY:Morelia\, Mich. Presentación con el Obispo Raúl Vera
DESCRIPTION: \n\n\n\n \nPROGRAMA DE LA PRESENTACION PUBLICA DE LA\nCONSTITUYENTE CIUDADANA Y POPULAR DEL\nESTADO DE MICHOACAN\n10:30 Registro de asistentes\n11:10 Inauguración y palabras de bienvenida\n11:30 Intermedio musical Huapango\n11:50 Palabras del obispo\n13:00 Intermedio musical Música purépecha\n13:20 Palabras finales y clausura\n13:40 Inicio de la comida\n14:00 Fin del evento\n\nCómo llegar:\n
URL:http://nuevaconstituyente.org/event/morelia-mich-presentacion-con-el-obispo-raul-vera/
CATEGORIES:Constituyente Ciudadana-Popular,Evento
ATTACH;FMTTYPE=:
END:VEVENT
END:VCALENDAR