BEGIN:VCALENDAR
VERSION:2.0
PRODID:-//Nueva Constituyente Ciudadana Popular - ECPv4.2.3//NONSGML v1.0//EN
CALSCALE:GREGORIAN
METHOD:PUBLISH
X-WR-CALNAME:Nueva Constituyente Ciudadana Popular
X-ORIGINAL-URL:http://nuevaconstituyente.org
X-WR-CALDESC:Events for Nueva Constituyente Ciudadana Popular
BEGIN:VEVENT
DTSTART;TZID=UTC+0:20150317T080000
DTEND;TZID=UTC+0:20150317T170000
DTSTAMP:20260423T073738
CREATED:20150616T135608
LAST-MODIFIED:20150616T135608
UID:720-1426579200-1426611600@nuevaconstituyente.org
SUMMARY:Morelia\, Mich. Reunión / Cuernavaca\, Mor. Taller
DESCRIPTION:Reunión del Comité Promotor en Morelia\, Michoacán\n\n \n\nTaller de facilitadoras y facilitadores en Cuernavaca\, Morelos\, a las 4pm\, en las oficinas del Calvario\, Cuernavaca.
URL:http://nuevaconstituyente.org/event/morelia-mich-reunion-de-comite-promotor/
CATEGORIES:Evento
ATTACH;FMTTYPE=:
END:VEVENT
END:VCALENDAR