BEGIN:VCALENDAR
VERSION:2.0
PRODID:-//Nueva Constituyente Ciudadana Popular - ECPv4.2.3//NONSGML v1.0//EN
CALSCALE:GREGORIAN
METHOD:PUBLISH
X-WR-CALNAME:Nueva Constituyente Ciudadana Popular
X-ORIGINAL-URL:http://nuevaconstituyente.org
X-WR-CALDESC:Events for Nueva Constituyente Ciudadana Popular
BEGIN:VEVENT
DTSTART;TZID=UTC+0:20150722T080000
DTEND;TZID=UTC+0:20150722T170000
DTSTAMP:20260423T070833
CREATED:20150704T154213
LAST-MODIFIED:20150704T154213
UID:1024-1437552000-1437584400@nuevaconstituyente.org
SUMMARY:Oaxaca\, Oax. Presentación de la Constituyente Ciudadana-Popular
DESCRIPTION:Convocatoria\n\nLa necesidad apremiante de encontrar una alternativa viable para refundar la vida democrática del país para lograr garantizar un futuro justo\, soberano y solidario es lo que nos une en una iniciativa que quiere construir una nueva constitución que nos represente a todas y todos los mexicanos. En estas circunstancias en Oaxaca surge un comité Facilitador de la Constituyente Ciudadana Popular que tiene el honor de invitar a todas las organizaciones sociales y a las y los ciudadanos en general a presenciar la presentación pública de los motivos de la Constituyente Ciudadana Popular en Oaxaca que se llevará a cabo el miércoles 22 de julio de 2015 en las instalaciones del Museo de Arte Contemporáneo de Oaxaca.\n\nEn el evento participara el compañero Raúl Vera López. el Padre Alejandro Solalinde y el Maestro Francisco Toledo.\n\nAl finalizar las ponencias tendremos un receso y se instalaran mesas de trabajo para analizar los principales problemas que enfrenta el Estado de Oaxaca tras las "reformas estructurales" con el fin de recabar propuestas que permitan transformar la tendencia que actualmente vive el país que nos esta llevando a una situación insostenible.\n\n¡¡¡¡ UN PAIS DEL PUEBLO\, PARA EL PUEBLO Y CON EL PUEBLO !!!!\n\n\n\nImágenes del evento:\n\n     
URL:http://nuevaconstituyente.org/event/oaxaca-oax-reunion-de-la-constituyente-ciudadana-popular/
CATEGORIES:Constituyente Ciudadana-Popular,Evento
ATTACH;FMTTYPE=:
END:VEVENT
END:VCALENDAR