BEGIN:VCALENDAR
VERSION:2.0
PRODID:-//Nueva Constituyente Ciudadana Popular - ECPv4.2.3//NONSGML v1.0//EN
CALSCALE:GREGORIAN
METHOD:PUBLISH
X-WR-CALNAME:Nueva Constituyente Ciudadana Popular
X-ORIGINAL-URL:http://nuevaconstituyente.org
X-WR-CALDESC:Events for Nueva Constituyente Ciudadana Popular
BEGIN:VEVENT
DTSTART;TZID=America/Mexico_City:20160303T080000
DTEND;TZID=America/Mexico_City:20160304T170000
DTSTAMP:20260423T071710
CREATED:20160301T192741
LAST-MODIFIED:20160301T192741
UID:1399-1456992000-1457110800@nuevaconstituyente.org
SUMMARY:Oaxaca\, Oax. Reunión del Comité Facilitador de la Constituyente Ciudadana-Popular
DESCRIPTION:OAXACA\, OAX. COMITÉ FACILITADOR DE LA CONSTITUYENTE CIUDADANA POPULAR. REUNIÓN DE PREPARACIÓN 3 Y 4 DE MARZO DE 2016\n\nEl Comité Facilitador en Oaxaca de la Constituyente Ciudadana Popular invita a la reunión de preparación del Acto de presentación de la Constituyente en la ciudad de Guelatao\, Oax\, que se llevará a cabo el 18 de marzo\, con la presencia del Obispo Raúl Vera.\n\nLa reunión de preparación será presidida por el compañero Marcos Tello y se realizará el jueves 3 y el viernes 4 de marzo\, a partir de las 18 horas\, en la calle de Arteaga 414\, Col. Centro\, Oaxaca de Juárez\, Oax.\n\n\nAtentamente\nComité Facilitador en Oaxaca\nResponsable: Susana Hernández\, 951 127 2580 / 951 244 2450\n\n
URL:http://nuevaconstituyente.org/event/oaxaca-oax-reunion-del-comite-facilitador-de-la-constituyente-ciudadana-popular/
CATEGORIES:Constituyente Ciudadana-Popular
ATTACH;FMTTYPE=:
END:VEVENT
END:VCALENDAR