BEGIN:VCALENDAR
VERSION:2.0
PRODID:-//Nueva Constituyente Ciudadana Popular - ECPv4.2.3//NONSGML v1.0//EN
CALSCALE:GREGORIAN
METHOD:PUBLISH
X-WR-CALNAME:Nueva Constituyente Ciudadana Popular
X-ORIGINAL-URL:http://nuevaconstituyente.org
X-WR-CALDESC:Events for Nueva Constituyente Ciudadana Popular
BEGIN:VEVENT
DTSTART;TZID=UTC+0:20150314T080000
DTEND;TZID=UTC+0:20150314T170000
DTSTAMP:20260423T111752
CREATED:20150616T140424
LAST-MODIFIED:20150616T140424
UID:727-1426320000-1426352400@nuevaconstituyente.org
SUMMARY:Oaxaca\, Oax. Taller con el Comité Promotor
DESCRIPTION:Se llevó a cabo la reunión de organización de la Constituyente Oaxaca para el sábado 14 marzo\,  en el salón en la iglesia del barrio Xochimilco (Oaxaca de Juarez)\, a las 9:00 a.m.\n\nSe discutió en torno a cómo llevar la idea de la Constituyente en los pueblos (donde\, cuando\, en que manera y con que herramientas); con qué otras organizaciones relacionarnos y en qué manera; establecer una fecha y organizar un evento publico en la ciudad de Oaxaca; platicar sobre la reunión en Juchitan para preparar el foro sobre el tema del eólico.\nTambién participó en la reunión el padre Alejandro Solalinde.
URL:http://nuevaconstituyente.org/event/oaxaca-oax-taller-con-el-comite-promotor-2/
CATEGORIES:Evento
END:VEVENT
END:VCALENDAR