BEGIN:VCALENDAR
VERSION:2.0
PRODID:-//Nueva Constituyente Ciudadana Popular - ECPv4.2.3//NONSGML v1.0//EN
CALSCALE:GREGORIAN
METHOD:PUBLISH
X-WR-CALNAME:Nueva Constituyente Ciudadana Popular
X-ORIGINAL-URL:http://nuevaconstituyente.org
X-WR-CALDESC:Events for Nueva Constituyente Ciudadana Popular
BEGIN:VEVENT
DTSTART;TZID=UTC+0:20150406T080000
DTEND;TZID=UTC+0:20150406T170000
DTSTAMP:20260423T084743
CREATED:20150616T130917
LAST-MODIFIED:20150616T130917
UID:692-1428307200-1428339600@nuevaconstituyente.org
SUMMARY:Oaxaca\, Oax. Taller con el Comité Promotor
DESCRIPTION:
URL:http://nuevaconstituyente.org/event/oaxaca-oax-taller-con-el-comite-promotor/
END:VEVENT
END:VCALENDAR