BEGIN:VCALENDAR
VERSION:2.0
PRODID:-//Nueva Constituyente Ciudadana Popular - ECPv4.2.3//NONSGML v1.0//EN
CALSCALE:GREGORIAN
METHOD:PUBLISH
X-WR-CALNAME:Nueva Constituyente Ciudadana Popular
X-ORIGINAL-URL:http://nuevaconstituyente.org
X-WR-CALDESC:Events for Nueva Constituyente Ciudadana Popular
BEGIN:VEVENT
DTSTART;TZID=America/Mexico_City:20160318T190000
DTEND;TZID=America/Mexico_City:20160318T210000
DTSTAMP:20260423T071634
CREATED:20160317T194253
LAST-MODIFIED:20160317T194253
UID:1415-1458327600-1458334800@nuevaconstituyente.org
SUMMARY:Papantla\, Ver. "Jornada por la Soberanía Nacional"\, Proyección de la película "Rosa Blanca"
DESCRIPTION:La proyección se llevará a cabo el viernes 18 de marzo de 2016\, a las 7 pm\, en el Restaurante "Humo"\, en el centro de Papantla\, Veracruz.
URL:http://nuevaconstituyente.org/event/papantla-ver-jornada-por-la-soberania-nacional-proyeccion-de-la-pelicula-rosa-blanca/
ATTACH;FMTTYPE=:
END:VEVENT
END:VCALENDAR