BEGIN:VCALENDAR
VERSION:2.0
PRODID:-//Nueva Constituyente Ciudadana Popular - ECPv4.2.3//NONSGML v1.0//EN
CALSCALE:GREGORIAN
METHOD:PUBLISH
X-WR-CALNAME:Nueva Constituyente Ciudadana Popular
X-ORIGINAL-URL:http://nuevaconstituyente.org
X-WR-CALDESC:Events for Nueva Constituyente Ciudadana Popular
BEGIN:VEVENT
DTSTART;TZID=UTC+0:20150316T080000
DTEND;TZID=UTC+0:20150316T170000
DTSTAMP:20260423T091901
CREATED:20150616T140132
LAST-MODIFIED:20150616T140132
UID:723-1426492800-1426525200@nuevaconstituyente.org
SUMMARY:Puebla\, Pue. Reunión del Comité Promotor
DESCRIPTION:El 16 de marzo\, se hubo reunión con grupos promotores en Puebla\, Puebla\, a las 3pm\,en la Oficina de la UPVA en el Mercado Hidalgo de Puebla\, Puebla.
URL:http://nuevaconstituyente.org/event/puebla-pue-reunion-del-comite-promotor/
CATEGORIES:Evento
END:VEVENT
END:VCALENDAR