BEGIN:VCALENDAR
VERSION:2.0
PRODID:-//Nueva Constituyente Ciudadana Popular - ECPv4.2.3//NONSGML v1.0//EN
CALSCALE:GREGORIAN
METHOD:PUBLISH
X-WR-CALNAME:Nueva Constituyente Ciudadana Popular
X-ORIGINAL-URL:http://nuevaconstituyente.org
X-WR-CALDESC:Events for Nueva Constituyente Ciudadana Popular
BEGIN:VEVENT
DTSTART;TZID=UTC+0:20150531T100000
DTEND;TZID=UTC+0:20150531T160000
DTSTAMP:20260423T085210
CREATED:20150530T165457
LAST-MODIFIED:20150530T165457
UID:512-1433066400-1433088000@nuevaconstituyente.org
SUMMARY:Papantla\, Ver. Reunión de la Constituyente Ciudadana-Popular
DESCRIPTION:CONVOCATORIA\n\nDOMINGO 31 DE MAYO\n\nLa cita es este próximo domingo 31 de mayo\, a las 10:00 horas\, en el Hotel Totonacapan\, con domicilio en la Calle Olivo\, esquina con 20 de Noviembre\, Papantla Centro\, Veracruz. (La ubicación es a una cuadra de la calle principal y a media cuadra de la terminal de autobuses de Transporte Mora\, en el Centro de Papantla\, Veracruz)\n\nConvocatoria a reunión de Constituyente Ciudadana-Popular de La Huasteca y Totonacapan. Papantla\, Veracruz. \n\n\nPor medio de la presente\, se invita al encuentro con compañeras y compañeros de la Coordinación General de Facilitadoras y Facilitadores de la Constituyente Ciudadana y Popular\, iniciativa impulsada por el Obispo Raúl Vera.\n\nEl Objetivo de la reunión es generar un espacio de diálogo e intercambio de experiencias entre la propuesta metodológica de los Talleres Constituyentes de la Huasteca y el Totonacapan\, y la propuesta de la Constituyente Ciudadana y Popular\, a fin de generar las condiciones propicias para una mayor articulación entre ambas propuestas que finalmente confluyen en una misma intención y que es generar un nuevo acuerdo de Nación incluyente y que atienda principalmente a las necesidades de las clases marginadas\, discriminadas y relegadas del actual modelo de nación.\n\nPrograma\n\n-Registro\n-Presentación de colectivos participantes\n-Presentación de la propuesta de los Talleres Constituyentes de la Huasteca y el Totonacapan\n-Presentación de la propuesta de la Constituyente Ciudadana y Popular\n-Planeación y propuesta de una siguiente visita a la región por parte del Obispo Raúl Vera.\n-Conclusiones y cierre\n\nAgradecemos la difusión de este evento y\, en la medida de lo posible\, la confirmación de su asistencia a este correo o al correo: lakjtian@live.com.mx\n\n \n\nImágenes del evento:\n\n  \n\n
URL:http://nuevaconstituyente.org/event/reunion-de-la-constituyente-ciudadana-popular-en-papantla-veracruz/
CATEGORIES:Constituyente Ciudadana-Popular,Evento
ATTACH;FMTTYPE=:
END:VEVENT
END:VCALENDAR