BEGIN:VCALENDAR
VERSION:2.0
PRODID:-//Nueva Constituyente Ciudadana Popular - ECPv4.2.3//NONSGML v1.0//EN
CALSCALE:GREGORIAN
METHOD:PUBLISH
X-WR-CALNAME:Nueva Constituyente Ciudadana Popular
X-ORIGINAL-URL:http://nuevaconstituyente.org
X-WR-CALDESC:Events for Nueva Constituyente Ciudadana Popular
BEGIN:VEVENT
DTSTART;TZID=UTC+0:20150624T190000
DTEND;TZID=UTC+0:20150624T210000
DTSTAMP:20260423T085151
CREATED:20150623T103003
LAST-MODIFIED:20150623T103003
UID:834-1435172400-1435179600@nuevaconstituyente.org
SUMMARY:Salamanca\, Gto. Reunión del Comité Promotor
DESCRIPTION:
URL:http://nuevaconstituyente.org/event/salamanca-gto-reunion-del-comite-promotor/
CATEGORIES:Evento
ATTACH;FMTTYPE=:
END:VEVENT
END:VCALENDAR