BEGIN:VCALENDAR
VERSION:2.0
PRODID:-//Nueva Constituyente Ciudadana Popular - ECPv4.2.3//NONSGML v1.0//EN
CALSCALE:GREGORIAN
METHOD:PUBLISH
X-WR-CALNAME:Nueva Constituyente Ciudadana Popular
X-ORIGINAL-URL:http://nuevaconstituyente.org
X-WR-CALDESC:Events for Nueva Constituyente Ciudadana Popular
BEGIN:VEVENT
DTSTART;TZID=UTC+0:20151206T080000
DTEND;TZID=UTC+0:20151206T170000
DTSTAMP:20260423T052251
CREATED:20150929T084524
LAST-MODIFIED:20150929T084524
UID:1228-1449388800-1449421200@nuevaconstituyente.org
SUMMARY:San Cristóbal de Las Casas\, Chiapas. Presentación pública de la Contituyente Ciudadana-Popular
DESCRIPTION:Hola a todos y todas. Aquí estamos\, aquí seguimos con la flama de la Esperanza mas viva que nunca. Se llevo a cabo el taller de facilitadores y facilitadoras en Chiapas con la participación de 80 personas dispuestas a trabajar en el proyecto. \n\nLes comparto con mucha alegría: eL 6 DE DICIEMBRE ACTO MASIVO EN SAN CRISTÓBAL DE LAS CASAS\, CHIAPAS\, PLAZA DE LA PAZ\, PARA LA PRESENTACIÓN PUBLICA DEL PROYECTO DE LA CONSTITUYENTE CIUDADANA-POPULAR. \n\nA reunirnos unas treinta mil almas para escuchar la propuesta. Mujeres\, hombres\, campesinos\, amas de casa\, estudiantes\, sindicatos\, obreros\, jornaleros\, profesionistas\, jovenes ... Unamonos\, es tiempo de escribir nuestra propia historia. \n\n 
URL:http://nuevaconstituyente.org/event/san-cristobal-de-las-casas-chiapas-presentacion-publica-de-la-coontituyente-ciudadana-popular/
CATEGORIES:Constituyente Ciudadana-Popular,Evento
ATTACH;FMTTYPE=:
END:VEVENT
END:VCALENDAR