BEGIN:VCALENDAR
VERSION:2.0
PRODID:-//Nueva Constituyente Ciudadana Popular - ECPv4.2.3//NONSGML v1.0//EN
CALSCALE:GREGORIAN
METHOD:PUBLISH
X-WR-CALNAME:Nueva Constituyente Ciudadana Popular
X-ORIGINAL-URL:http://nuevaconstituyente.org
X-WR-CALDESC:Events for Nueva Constituyente Ciudadana Popular
BEGIN:VEVENT
DTSTART;TZID=UTC+0:20150418T080000
DTEND;TZID=UTC+0:20150418T170000
DTSTAMP:20260423T085153
CREATED:20150616T123919
LAST-MODIFIED:20150616T123919
UID:677-1429344000-1429376400@nuevaconstituyente.org
SUMMARY:San Luis Potosí\, SLP. Reunión de la Constituyente Ciudadana-Popular
DESCRIPTION:La reunión se llevó a cabo en el Teatro-Foro La Guarida del Coyote\, ubicado en la calle de Comonfort # 1005 Col. Alamitos (a una cuadra de la Glorieta de los Niños Héroes).\n\n \n\nPrograma\n9:00 Desayuno con los compañeros promotores y los compañeros de los municipios.\n11:00 Rueda de Prensa en Plaza de Armas.\n2:00 Comida con los compañeros promotores y los compañeros de los municipios.\n4:00 Mesa de trabajo con organizaciones.\n\n \n\nPrensa:\n\nLa Jornada San Luis\n\n 
URL:http://nuevaconstituyente.org/event/san-luis-potosi-slp-reunion-de-la-constituyente-ciudadana-popular/
CATEGORIES:Evento
ATTACH;FMTTYPE=:
END:VEVENT
END:VCALENDAR