BEGIN:VCALENDAR
VERSION:2.0
PRODID:-//Nueva Constituyente Ciudadana Popular - ECPv4.2.3//NONSGML v1.0//EN
CALSCALE:GREGORIAN
METHOD:PUBLISH
X-WR-CALNAME:Nueva Constituyente Ciudadana Popular
X-ORIGINAL-URL:http://nuevaconstituyente.org
X-WR-CALDESC:Events for Nueva Constituyente Ciudadana Popular
BEGIN:VEVENT
DTSTART;TZID=UTC+0:20150807T190000
DTEND;TZID=UTC+0:20150807T190000
DTSTAMP:20260423T101420
CREATED:20150802T124113
LAST-MODIFIED:20150802T124113
UID:1115-1438974000-1438974000@nuevaconstituyente.org
SUMMARY:San Luis Potosí\, SLP. Taller de formación para facilitadoras y facilitadores
DESCRIPTION:\n\nLa Constituyente Ciudadana y Popular SLP les invita cordialmente a todas y a todos al Taller de Formación de facilitadoras y facilitadores que será impartido por el profesor Marcos Tello.\n\nEl día 7 de Agosto de 2015 a las 17:00 horas\, en el Teatro-foro "La guarida del coyote"\, ubicado en Comonfort #1005\, en el centro histórico de San Luis Potosí\, SLP.\n\n¡Les esperamos!\n\n
URL:http://nuevaconstituyente.org/event/san-luis-potosi-slp-taller-de-formacion-para-facilitadoras-y-facilitadores/
CATEGORIES:Constituyente Ciudadana-Popular
ATTACH;FMTTYPE=:
END:VEVENT
END:VCALENDAR