BEGIN:VCALENDAR
VERSION:2.0
PRODID:-//Nueva Constituyente Ciudadana Popular - ECPv4.2.3//NONSGML v1.0//EN
CALSCALE:GREGORIAN
METHOD:PUBLISH
X-WR-CALNAME:Nueva Constituyente Ciudadana Popular
X-ORIGINAL-URL:http://nuevaconstituyente.org
X-WR-CALDESC:Events for Nueva Constituyente Ciudadana Popular
BEGIN:VEVENT
DTSTART;TZID=UTC+0:20180728T150000
DTEND;TZID=UTC+0:20180728T210000
DTSTAMP:20260423T224510
CREATED:20180715T221337
LAST-MODIFIED:20180716T052549
UID:4615-1532790000-1532811600@nuevaconstituyente.org
SUMMARY:Segunda jornada intercultural rumbo al festival de Blues y Jazz del Desierto
DESCRIPTION:\n\nComo el Festival de Blues & Jazz del Desierto\, se hace de manera solidaria y comunitaria\, se tienen actividades donde los artistas locales (con experiencia y emergentes) se suman a un proyecto común\, combatiendo las lógicas de acumulación del sistema\, desde la música y la cultura. En este segunda edición\, se combinarán también las tradicionales Lunas Culturales y Románticas\, como en cada luna llena en el desierto.\n\n\n\nForo Cultural Imagina Rock\, Pérez Treviño 1360\, entre Fragua y Urdiñola\, Saltillo\, Coah.\n\nTransmisión en vivo : https://fororockimagina.wixsite.com/festbluesyjazz2018\n\n
URL:http://nuevaconstituyente.org/event/segunda-jornada-intercultural-rumbo-al-festival-de-blues-y-jazz-del-desierto/
LOCATION: Pérez Treviño 1360\, entre Fragua y Urdiñola\, Saltillo\, Coah. 
ATTACH;FMTTYPE=image/jpeg:http://nuevaconstituyente.org/wp-content/uploads/2018/07/IMG-20180715-WA0032.jpg
END:VEVENT
END:VCALENDAR