BEGIN:VCALENDAR
VERSION:2.0
PRODID:-//Nueva Constituyente Ciudadana Popular - ECPv4.2.3//NONSGML v1.0//EN
CALSCALE:GREGORIAN
METHOD:PUBLISH
X-WR-CALNAME:Nueva Constituyente Ciudadana Popular
X-ORIGINAL-URL:http://nuevaconstituyente.org
X-WR-CALDESC:Events for Nueva Constituyente Ciudadana Popular
BEGIN:VEVENT
DTSTART;TZID=UTC+0:20180417T080000
DTEND;TZID=UTC+0:20180418T170000
DTSTAMP:20260423T181046
CREATED:20180413T160837
LAST-MODIFIED:20180413T160837
UID:4381-1523952000-1524070800@nuevaconstituyente.org
SUMMARY:Taller de Educación Popular en Hidalgo
DESCRIPTION:Se impartirá un taller de educación popular con compañeras y compañeros de Hidalgo.
URL:http://nuevaconstituyente.org/event/taller-de-educacion-popular-en-hidalgo/
LOCATION:Hidalgo \, México
END:VEVENT
END:VCALENDAR