BEGIN:VCALENDAR
VERSION:2.0
PRODID:-//Nueva Constituyente Ciudadana Popular - ECPv4.2.3//NONSGML v1.0//EN
CALSCALE:GREGORIAN
METHOD:PUBLISH
X-WR-CALNAME:Nueva Constituyente Ciudadana Popular
X-ORIGINAL-URL:http://nuevaconstituyente.org
X-WR-CALDESC:Events for Nueva Constituyente Ciudadana Popular
BEGIN:VEVENT
DTSTART;TZID=UTC+0:20180718T180000
DTEND;TZID=UTC+0:20180718T210000
DTSTAMP:20260423T210927
CREATED:20180715T220422
LAST-MODIFIED:20180715T220422
UID:4610-1531936800-1531947600@nuevaconstituyente.org
SUMMARY:Taller de Educación Popular
DESCRIPTION:La educación popular reconoce la realidad tal cual es: como un proceso continuo donde todxs nos educamos a todxs. La estructura social que ya está dada\, y que al nacer nos sumergimos en ella sin previo aviso\, tiene también mecanismos de aprendizaje y conceptos que se insertan en su lógica\, una lógica que finalmente resulta impositiva. Por eso en la Nueva Constituyente impulsamos procesos para autoformarnos: por la necesidad que tenemos de crear nuestros propios conceptos\, pues la realidad se ve diferente dependiendo si la miras de arriba\, o de abajo.
URL:http://nuevaconstituyente.org/event/taller-de-educacion-popular/
LOCATION:Casa de la Constituyente\, Xicontencatl 725/1\, Zona Centro\, Saltillo\, Coahuila\, \, Saltillo\, Coahuila\, Coahuila\, México
END:VEVENT
END:VCALENDAR