BEGIN:VCALENDAR
VERSION:2.0
PRODID:-//Nueva Constituyente Ciudadana Popular - ECPv4.2.3//NONSGML v1.0//EN
CALSCALE:GREGORIAN
METHOD:PUBLISH
X-WR-CALNAME:Nueva Constituyente Ciudadana Popular
X-ORIGINAL-URL:http://nuevaconstituyente.org
X-WR-CALDESC:Events for Nueva Constituyente Ciudadana Popular
BEGIN:VEVENT
DTSTART;TZID=UTC+0:20160811T080000
DTEND;TZID=UTC+0:20160811T170000
DTSTAMP:20260423T090829
CREATED:20160812T175457
LAST-MODIFIED:20160812T175457
UID:1736-1470902400-1470934800@nuevaconstituyente.org
SUMMARY:Taller de la NCCP en Chenalhó
DESCRIPTION:Taller de la Nueva Constituyente Ciudadana-Popular en Chenalhó\, Chiapas.
URL:http://nuevaconstituyente.org/event/taller-de-la-nccp-en-chenalho/
LOCATION:Chenalho
CATEGORIES:Evento
END:VEVENT
END:VCALENDAR