BEGIN:VCALENDAR
VERSION:2.0
PRODID:-//Nueva Constituyente Ciudadana Popular - ECPv4.2.3//NONSGML v1.0//EN
CALSCALE:GREGORIAN
METHOD:PUBLISH
X-WR-CALNAME:Nueva Constituyente Ciudadana Popular
X-ORIGINAL-URL:http://nuevaconstituyente.org
X-WR-CALDESC:Events for Nueva Constituyente Ciudadana Popular
BEGIN:VEVENT
DTSTART;TZID=UTC+0:20170429T100000
DTEND;TZID=UTC+0:20170501T170000
DTSTAMP:20260423T102517
CREATED:20170326T061533
LAST-MODIFIED:20170326T061624
UID:2655-1493460000-1493658000@nuevaconstituyente.org
SUMMARY:Taller  Nacional de la NCCP
DESCRIPTION:29\, 30 de Abril y 1ro de mayo:\nTaller  Nacional Político-Estratégico de la NCCP 29\, 30 de Abril y 1° de Mayo\, DF.
URL:http://nuevaconstituyente.org/event/taller-nacional-de-la-nccp/
LOCATION:Distrito Federal\, México
END:VEVENT
END:VCALENDAR