BEGIN:VCALENDAR
VERSION:2.0
PRODID:-//Nueva Constituyente Ciudadana Popular - ECPv4.2.3//NONSGML v1.0//EN
CALSCALE:GREGORIAN
METHOD:PUBLISH
X-WR-CALNAME:Nueva Constituyente Ciudadana Popular
X-ORIGINAL-URL:http://nuevaconstituyente.org
X-WR-CALDESC:Events for Nueva Constituyente Ciudadana Popular
BEGIN:VEVENT
DTSTART;TZID=UTC+0:20150723T170000
DTEND;TZID=UTC+0:20150723T200000
DTSTAMP:20260423T100015
CREATED:20150721T181608
LAST-MODIFIED:20150721T181608
UID:1071-1437670800-1437681600@nuevaconstituyente.org
SUMMARY:Zacatecas\, Zac. Conversatorio sobre el problema de la educación
DESCRIPTION:Estamos todas y todos invitados a participar en el Conversatorio sobe el problema de la educación que tendrá lugar en el plantón de la Seduzac\, en Zacatecas\, Zac.\, el jueves 23 de julio\, a las 5 pm.\n\nSe comentarán temas como: las reformas en la educación\, la defensa de la profesión docente y la escuela pública\, la evaluación docente\, las condiciones laborales\, la gratuidad y el financiamiento.\n\n \n\nImágenes del evento:\n\n  
URL:http://nuevaconstituyente.org/event/zacatecas-zac-conversatorio-sobre-el-problema-de-la-educacion/
CATEGORIES:Evento
ATTACH;FMTTYPE=:
END:VEVENT
END:VCALENDAR