BEGIN:VCALENDAR
VERSION:2.0
PRODID:-//Nueva Constituyente Ciudadana Popular - ECPv4.2.3//NONSGML v1.0//EN
CALSCALE:GREGORIAN
METHOD:PUBLISH
X-WR-CALNAME:Nueva Constituyente Ciudadana Popular
X-ORIGINAL-URL:http://nuevaconstituyente.org
X-WR-CALDESC:Events for Nueva Constituyente Ciudadana Popular
BEGIN:VEVENT
DTSTART;TZID=America/Mexico_City:20160701T160000
DTEND;TZID=America/Mexico_City:20160701T170000
DTSTAMP:20260423T101121
CREATED:20160616T191931
LAST-MODIFIED:20160616T191931
UID:1510-1467388800-1467392400@nuevaconstituyente.org
SUMMARY:Zacatecas\, Zac. Reunión del Comité Estatal de la Constituyente Ciudadana-Popular
DESCRIPTION:
URL:http://nuevaconstituyente.org/event/zacatecas-zac-reunion-del-comite-estatal-de-la-constituyente-ciudadana-popular/
CATEGORIES:Constituyente Ciudadana-Popular,Evento
ATTACH;FMTTYPE=:
END:VEVENT
END:VCALENDAR